BEGIN:VCALENDAR
VERSION:2.0
PRODID:-//widerstaendig.de - ECPv6.15.20//NONSGML v1.0//EN
CALSCALE:GREGORIAN
METHOD:PUBLISH
X-WR-CALNAME:widerstaendig.de
X-ORIGINAL-URL:https://widerstaendig.de
X-WR-CALDESC:Veranstaltungen für widerstaendig.de
REFRESH-INTERVAL;VALUE=DURATION:PT1H
X-Robots-Tag:noindex
X-PUBLISHED-TTL:PT1H
BEGIN:VTIMEZONE
TZID:Europe/Berlin
BEGIN:DAYLIGHT
TZOFFSETFROM:+0100
TZOFFSETTO:+0200
TZNAME:CEST
DTSTART:20250330T010000
END:DAYLIGHT
BEGIN:STANDARD
TZOFFSETFROM:+0200
TZOFFSETTO:+0100
TZNAME:CET
DTSTART:20251026T010000
END:STANDARD
BEGIN:DAYLIGHT
TZOFFSETFROM:+0100
TZOFFSETTO:+0200
TZNAME:CEST
DTSTART:20260329T010000
END:DAYLIGHT
BEGIN:STANDARD
TZOFFSETFROM:+0200
TZOFFSETTO:+0100
TZNAME:CET
DTSTART:20261025T010000
END:STANDARD
BEGIN:DAYLIGHT
TZOFFSETFROM:+0100
TZOFFSETTO:+0200
TZNAME:CEST
DTSTART:20270328T010000
END:DAYLIGHT
BEGIN:STANDARD
TZOFFSETFROM:+0200
TZOFFSETTO:+0100
TZNAME:CET
DTSTART:20271031T010000
END:STANDARD
END:VTIMEZONE
BEGIN:VEVENT
DTSTART;TZID=Europe/Berlin:20260510T140000
DTEND;TZID=Europe/Berlin:20260510T140000
DTSTAMP:20260422T054639
CREATED:20260417T124613Z
LAST-MODIFIED:20260417T130348Z
UID:52497-1778421600-1778421600@widerstaendig.de
SUMMARY:Gegen Krieg und Frieden -   Solidaritätskonzert
DESCRIPTION:
URL:https://widerstaendig.de/event/gegen-krieg-und-frieden-solidaritaetskonzert/
LOCATION:Jockel Kreuzberg\, Ratiborstraße 14C\, Berlin\, Berlin\, 10999\, Germany
END:VEVENT
END:VCALENDAR