BEGIN:VCALENDAR
VERSION:2.0
PRODID:-//widerstaendig.de - ECPv6.15.20//NONSGML v1.0//EN
CALSCALE:GREGORIAN
METHOD:PUBLISH
X-ORIGINAL-URL:https://widerstaendig.de
X-WR-CALDESC:Veranstaltungen für widerstaendig.de
REFRESH-INTERVAL;VALUE=DURATION:PT1H
X-Robots-Tag:noindex
X-PUBLISHED-TTL:PT1H
BEGIN:VTIMEZONE
TZID:Europe/Berlin
BEGIN:DAYLIGHT
TZOFFSETFROM:+0100
TZOFFSETTO:+0200
TZNAME:CEST
DTSTART:20230326T010000
END:DAYLIGHT
BEGIN:STANDARD
TZOFFSETFROM:+0200
TZOFFSETTO:+0100
TZNAME:CET
DTSTART:20231029T010000
END:STANDARD
BEGIN:DAYLIGHT
TZOFFSETFROM:+0100
TZOFFSETTO:+0200
TZNAME:CEST
DTSTART:20240331T010000
END:DAYLIGHT
BEGIN:STANDARD
TZOFFSETFROM:+0200
TZOFFSETTO:+0100
TZNAME:CET
DTSTART:20241027T010000
END:STANDARD
BEGIN:DAYLIGHT
TZOFFSETFROM:+0100
TZOFFSETTO:+0200
TZNAME:CEST
DTSTART:20250330T010000
END:DAYLIGHT
BEGIN:STANDARD
TZOFFSETFROM:+0200
TZOFFSETTO:+0100
TZNAME:CET
DTSTART:20251026T010000
END:STANDARD
END:VTIMEZONE
BEGIN:VEVENT
DTSTART;TZID=Europe/Berlin:20240410T160000
DTEND;TZID=Europe/Berlin:20240410T170000
DTSTAMP:20260424T122559
CREATED:20240328T195645Z
LAST-MODIFIED:20240328T203414Z
UID:28551-1712764800-1712768400@widerstaendig.de
SUMMARY:Gazakrieg stoppen – Menschenleben retten
DESCRIPTION:Kundgebung von Berliner Gewerkschaftsmitgliedern  \nam 10. April 2024\nvon 16:00 bis 17:00 Uhr\nam Platz des 18. März/Brandenburger Tor \nWir fordern: \n\neinen sofortigen Waffenstillstand und das Ende der Blockade des Gazastreifens\ndie Wiederaufnahme ausreichender Zahlungen an das UN-Hilfswerk durch die Bundesregierung\nden Stopp aller Waffenlieferungen an Israel
URL:https://widerstaendig.de/event/gazakrieg-stoppen-menschenleben-retten/
LOCATION:Brandenburger Tor\, Berlin\, Deutschland
END:VEVENT
BEGIN:VEVENT
DTSTART;TZID=Europe/Berlin:20240410T160000
DTEND;TZID=Europe/Berlin:20240410T170000
DTSTAMP:20260424T122559
CREATED:20240328T195645Z
LAST-MODIFIED:20240328T195645Z
UID:45584-1712764800-1712768400@widerstaendig.de
SUMMARY:Gazakrieg stoppen – Menschenleben retten
DESCRIPTION:Kundgebung von Berliner Gewerkschaftsmitgliedern  \nam 10. April 2024\nvon 16:00 bis 17:00 Uhr\nam Platz des 18. März/Brandenburger Tor \nWir fordern: \n\neinen sofortigen Waffenstillstand und das Ende der Blockade des Gazastreifens\ndie Wiederaufnahme ausreichender Zahlungen an das UN-Hilfswerk durch die Bundesregierung\nden Stopp aller Waffenlieferungen an Israel
URL:https://widerstaendig.de/event/gazakrieg-stoppen-menschenleben-retten-2/
LOCATION:Brandenburger Tor\, Berlin\, Deutschland
END:VEVENT
BEGIN:VEVENT
DTSTART;TZID=Europe/Berlin:20240412T140000
DTEND;TZID=Europe/Berlin:20240414T160000
DTSTAMP:20260424T122559
CREATED:20240308T100533Z
LAST-MODIFIED:20240413T060936Z
UID:28237-1712930400-1713110400@widerstaendig.de
SUMMARY:Palästina Kongress 2024 – Wir klagen an -Kommt am 13.04.2024 um 14 Uhr zum Neptunbrunnen in Berlin\, um gegen das Verbot des Palästina Kongresses zu demonstrieren und Internationaler Aktionstag am 14. April 2024
DESCRIPTION:Heute (12.04. Anm. Admin.) wurde der Palästina Kongress von der Polizei gestürmt und verboten. Die staatlichen Repressionen gegen den Palästina Kongress zeigen\, dass der deutsche Staat nicht will\, dass wir seine Mitschuld am Genozid in Gaza anklagen. \nWir lassen uns aber nicht zum Schweigen bringen! \nKommt morgen (13.04. Anm. Admin.)  um 14 Uhr zum Neptunbrunnen in Berlin\, um gegen das Verbot des Palästina Kongresses zu demonstrieren! 🇵🇸 \nQuelle \nWir Klagen An! Stoppt die deutsche Beihilfe zum Völkermord in Gaza.\nInternationaler Aktionstag am 14. April 2024\nUm Gaza zu retten\, müssen auch die Unterstützer:innen des Völkermordes gestoppt werden. Demonstriert gegen die deutsche Beihilfe zum Völkermord in Gaza. \nVersammelt euch am 14. April weltweit vor deutschen Botschaften\, deutschen Konsulaten\, offiziellen deutschen Einrichtungen als auch vor dem Internationalen Strafgerichtshof und den UN-Standorten in New York und Genf. Wir Klagen An! Verurteilt und bestraft die Mitglieder des deutschen Bundessicherheitsrates und ihrer Helfershelfer:innen unter dem Tatbestand der Unterstützung des Völkermordes. \nQuelle: \n  \n“Die Palästinenser:innen erleiden einen Völkermord. Israel vernichtet Gaza und seine Bevölkerung. Bis Februar 2024 wurden 1.9 Millionen Menschen vertrieben. Mehr als 30’000 Palästinenser:innen wurden durch das israelische Militär getötet. Infrastruktur\, Krankenhäuser\, Universitäten\, Schulen\, Verwaltungsgebäude und Wohnblocks wurden zerbombt. Hunderttausende leiden an Hunger\, haben keinen Zugang zu sauberem Trinkwasser und Medizin.” [1] \nAuf dieser Grundlage bereiten mehrere Gruppen palästinensischer\, jüdischer\, deutscher und internationaler Aktivist:innen den Palästina-Kongress 2024 in Berlin vor. Gemeinsam werden wir die deutsche Bundesregierung öffentlichkeitswirksam der Beihilfe zum Genozid in Gaza anklagen. \n  \n \nWeiterlesen hier:
URL:https://widerstaendig.de/event/palaestina-kongress-2024-wir-klagen-an/
LOCATION:Berlin
END:VEVENT
BEGIN:VEVENT
DTSTART;TZID=Europe/Berlin:20240412T140000
DTEND;TZID=Europe/Berlin:20240414T160000
DTSTAMP:20260424T122559
CREATED:20240308T100533Z
LAST-MODIFIED:20240308T100533Z
UID:45582-1712930400-1713110400@widerstaendig.de
SUMMARY:Palästina Kongress 2024 – Wir klagen an -Kommt am 13.04.2024 um 14 Uhr zum Neptunbrunnen in Berlin\, um gegen das Verbot des Palästina Kongresses zu demonstrieren und Internationaler Aktionstag am 14. April 2024
DESCRIPTION:Heute (12.04. Anm. Admin.) wurde der Palästina Kongress von der Polizei gestürmt und verboten. Die staatlichen Repressionen gegen den Palästina Kongress zeigen\, dass der deutsche Staat nicht will\, dass wir seine Mitschuld am Genozid in Gaza anklagen. \nWir lassen uns aber nicht zum Schweigen bringen! \nKommt morgen (13.04. Anm. Admin.)  um 14 Uhr zum Neptunbrunnen in Berlin\, um gegen das Verbot des Palästina Kongresses zu demonstrieren! 🇵🇸 \nQuelle \nWir Klagen An! Stoppt die deutsche Beihilfe zum Völkermord in Gaza.\nInternationaler Aktionstag am 14. April 2024\nUm Gaza zu retten\, müssen auch die Unterstützer:innen des Völkermordes gestoppt werden. Demonstriert gegen die deutsche Beihilfe zum Völkermord in Gaza. \nVersammelt euch am 14. April weltweit vor deutschen Botschaften\, deutschen Konsulaten\, offiziellen deutschen Einrichtungen als auch vor dem Internationalen Strafgerichtshof und den UN-Standorten in New York und Genf. Wir Klagen An! Verurteilt und bestraft die Mitglieder des deutschen Bundessicherheitsrates und ihrer Helfershelfer:innen unter dem Tatbestand der Unterstützung des Völkermordes. \nQuelle: \n  \n“Die Palästinenser:innen erleiden einen Völkermord. Israel vernichtet Gaza und seine Bevölkerung. Bis Februar 2024 wurden 1.9 Millionen Menschen vertrieben. Mehr als 30’000 Palästinenser:innen wurden durch das israelische Militär getötet. Infrastruktur\, Krankenhäuser\, Universitäten\, Schulen\, Verwaltungsgebäude und Wohnblocks wurden zerbombt. Hunderttausende leiden an Hunger\, haben keinen Zugang zu sauberem Trinkwasser und Medizin.” [1] \nAuf dieser Grundlage bereiten mehrere Gruppen palästinensischer\, jüdischer\, deutscher und internationaler Aktivist:innen den Palästina-Kongress 2024 in Berlin vor. Gemeinsam werden wir die deutsche Bundesregierung öffentlichkeitswirksam der Beihilfe zum Genozid in Gaza anklagen. \n  \n \nWeiterlesen hier:
URL:https://widerstaendig.de/event/palaestina-kongress-2024-wir-klagen-an-2/
LOCATION:Berlin
END:VEVENT
END:VCALENDAR