BEGIN:VCALENDAR
VERSION:2.0
PRODID:-//widerstaendig.de - ECPv6.15.20//NONSGML v1.0//EN
CALSCALE:GREGORIAN
METHOD:PUBLISH
X-WR-CALNAME:widerstaendig.de
X-ORIGINAL-URL:https://widerstaendig.de
X-WR-CALDESC:Veranstaltungen für widerstaendig.de
REFRESH-INTERVAL;VALUE=DURATION:PT1H
X-Robots-Tag:noindex
X-PUBLISHED-TTL:PT1H
BEGIN:VTIMEZONE
TZID:Europe/Berlin
BEGIN:DAYLIGHT
TZOFFSETFROM:+0100
TZOFFSETTO:+0200
TZNAME:CEST
DTSTART:20240331T010000
END:DAYLIGHT
BEGIN:STANDARD
TZOFFSETFROM:+0200
TZOFFSETTO:+0100
TZNAME:CET
DTSTART:20241027T010000
END:STANDARD
BEGIN:DAYLIGHT
TZOFFSETFROM:+0100
TZOFFSETTO:+0200
TZNAME:CEST
DTSTART:20250330T010000
END:DAYLIGHT
BEGIN:STANDARD
TZOFFSETFROM:+0200
TZOFFSETTO:+0100
TZNAME:CET
DTSTART:20251026T010000
END:STANDARD
BEGIN:DAYLIGHT
TZOFFSETFROM:+0100
TZOFFSETTO:+0200
TZNAME:CEST
DTSTART:20260329T010000
END:DAYLIGHT
BEGIN:STANDARD
TZOFFSETFROM:+0200
TZOFFSETTO:+0100
TZNAME:CET
DTSTART:20261025T010000
END:STANDARD
END:VTIMEZONE
BEGIN:VEVENT
DTSTART;TZID=Europe/Berlin:20251108T190000
DTEND;TZID=Europe/Berlin:20251108T190000
DTSTAMP:20260424T105832
CREATED:20251014T185041Z
LAST-MODIFIED:20251014T185117Z
UID:48816-1762628400-1762628400@widerstaendig.de
SUMMARY:Wie das Gesundheitswesen militarisiert wird
DESCRIPTION:Gesundheitsversorgung im Kriegsfall wird vorbereitet. Die Gesundheitsversorgung der Zivilbevölkerung soll hinter der Versorgung der Militärangehörigen zurückstehen. In der Bevölkerung soll die Illusion geschaffen werden\, dass medizinische Hilfe im Kriegsfall möglich sei. Bedrohungsszenarien werden eingesetzt\, Angst wird instrumentalisiert \nÜber diese Entwicklung wollen wir informieren und über Alternativen diskutieren. \nReferentin: Ute Rippel-Lau ist Ärztin für Allgemeinmedizin und ehemaliges Vorstandsmitglied der IPPNW. Sie ist aktiv in der IPPNW-Kampagne gegen die Militarisierung des Gesundheitswesens: ippnw.de/bit/militarisierung \nHier gehts zum Flyer:
URL:https://widerstaendig.de/event/wie-das-gesundheitswesen-militarisiert-wird/
LOCATION:Kiezraum Dragonerarrel\, Mehringdamm\, 10963 Berlin\, Berlin\, 10963\, Deutschland
END:VEVENT
BEGIN:VEVENT
DTSTART;TZID=Europe/Berlin:20251109T200000
DTEND;TZID=Europe/Berlin:20251109T223000
DTSTAMP:20260424T105832
CREATED:20251102T220609Z
LAST-MODIFIED:20251102T220609Z
UID:48907-1762718400-1762727400@widerstaendig.de
SUMMARY:Massenstreik\, Antimilitarismus und Revolution – 9.November 1918 in Berlin
DESCRIPTION:
URL:https://widerstaendig.de/event/massenstreik-antimilitarismus-und-revolution-9-november-1918-in-berlin/
LOCATION:Kiezraum Dragonerarrel\, Mehringdamm\, 10963 Berlin\, Berlin\, 10963\, Deutschland
END:VEVENT
BEGIN:VEVENT
DTSTART;TZID=Europe/Berlin:20251116T000000
DTEND;TZID=Europe/Berlin:20251116T000000
DTSTAMP:20260424T105832
CREATED:20251116T184613Z
LAST-MODIFIED:20251116T184622Z
UID:49155-1763251200-1763251200@widerstaendig.de
SUMMARY:Luxemburg-Liebknecht-Demonstration\, Olof-Palme-Platz
DESCRIPTION:Auch wir sagen: »Nie wieder kriegstüchtig! Stehen wir auf für Frieden!«\nFür den 15. Januar 2026 ruft das LL-Bündnis mit demselben Aufruf\, mit dem es zur Demonstration am 11. Januar vom U-Bhf. Frankfurter Tor zur Gedenkstätte der Sozialisten in Friedrichsfelde aufruft\, noch einmal zu Demonstarion vom Olof-Palme-Platz zu den Gedenktafel/-stein im Tiergarten auf \n 
URL:https://widerstaendig.de/event/luxemburg-liebknecht-demonstration-olof-palme-platz/
LOCATION:Berlin
END:VEVENT
END:VCALENDAR